Package: PSMatch Version: 1.11.0 Command: /Library/Frameworks/R.framework/Resources/bin/R CMD INSTALL PSMatch StartedAt: 2025-02-20 15:17:47 -0500 (Thu, 20 Feb 2025) EndedAt: 2025-02-20 15:17:58 -0500 (Thu, 20 Feb 2025) EllapsedTime: 11.6 seconds RetCode: 0 Status: OK