Package: PROcess Version: 1.83.0 Command: rm -rf PROcess.buildbin-libdir && mkdir PROcess.buildbin-libdir && E:\biocbuild\bbs-3.21-bioc\R\bin\R.exe CMD INSTALL --build --library=PROcess.buildbin-libdir PROcess_1.83.0.tar.gz StartedAt: 2025-02-19 08:06:49 -0500 (Wed, 19 Feb 2025) EndedAt: 2025-02-19 08:07:04 -0500 (Wed, 19 Feb 2025) EllapsedTime: 14.9 seconds RetCode: 0 Status: OK PackageFile: PROcess_1.83.0.zip PackageFileSize: 1.973 MiB