Package: PROcess Version: 1.83.0 Command: /home/biocbuild/bbs-3.21-bioc/R/bin/R CMD check --install=check:PROcess.install-out.txt --library=/home/biocbuild/bbs-3.21-bioc/R/site-library --timings PROcess_1.83.0.tar.gz StartedAt: 2025-02-19 01:05:52 -0500 (Wed, 19 Feb 2025) EndedAt: 2025-02-19 01:06:37 -0500 (Wed, 19 Feb 2025) EllapsedTime: 44.0 seconds RetCode: 0 Status: OK CheckDir: PROcess.Rcheck Warnings: 0