Package: PROcess Version: 1.83.0 Command: /Library/Frameworks/R.framework/Resources/bin/R CMD INSTALL PROcess StartedAt: 2025-02-18 15:19:40 -0500 (Tue, 18 Feb 2025) EndedAt: 2025-02-18 15:19:42 -0500 (Tue, 18 Feb 2025) EllapsedTime: 2.1 seconds RetCode: 0 Status: OK