Package: PROPS Version: 1.29.0 Command: E:\biocbuild\bbs-3.21-bioc\R\bin\R.exe CMD INSTALL PROPS StartedAt: 2025-02-21 16:36:39 -0500 (Fri, 21 Feb 2025) EndedAt: 2025-02-21 16:37:04 -0500 (Fri, 21 Feb 2025) EllapsedTime: 24.5 seconds RetCode: 0 Status: OK