Package: PROPS Version: 1.29.0 Command: chmod a+r PROPS -R && E:\biocbuild\bbs-3.21-bioc\R\bin\R.exe CMD build --keep-empty-dirs --no-resave-data PROPS StartedAt: 2025-02-20 20:57:47 -0500 (Thu, 20 Feb 2025) EndedAt: 2025-02-20 21:00:46 -0500 (Thu, 20 Feb 2025) EllapsedTime: 179.6 seconds RetCode: 0 Status: OK PackageFile: PROPS_1.29.0.tar.gz PackageFileSize: 3.585 MiB