Package: PROPS Version: 1.29.0 Command: /Library/Frameworks/R.framework/Resources/bin/R CMD INSTALL PROPS StartedAt: 2025-02-20 15:32:18 -0500 (Thu, 20 Feb 2025) EndedAt: 2025-02-20 15:32:45 -0500 (Thu, 20 Feb 2025) EllapsedTime: 26.4 seconds RetCode: 0 Status: OK