Package: PROPS Version: 1.29.0 Command: /Library/Frameworks/R.framework/Resources/bin/R CMD check --install=check:PROPS.install-out.txt --library=/Library/Frameworks/R.framework/Resources/library --no-vignettes --timings PROPS_1.29.0.tar.gz StartedAt: 2025-02-20 22:29:56 -0500 (Thu, 20 Feb 2025) EndedAt: 2025-02-20 22:35:03 -0500 (Thu, 20 Feb 2025) EllapsedTime: 307.5 seconds RetCode: 0 Status: OK CheckDir: PROPS.Rcheck Warnings: 0