Package: PROPS Version: 1.29.0 Command: /Library/Frameworks/R.framework/Resources/bin/R CMD build --keep-empty-dirs --no-resave-data PROPS StartedAt: 2025-02-20 17:51:32 -0500 (Thu, 20 Feb 2025) EndedAt: 2025-02-20 17:54:26 -0500 (Thu, 20 Feb 2025) EllapsedTime: 173.6 seconds RetCode: 0 Status: OK PackageFile: PROPS_1.29.0.tar.gz PackageFileSize: 3.585 MiB