Package: PRONE Version: 1.1.2 Command: chmod a+r PRONE -R && E:\biocbuild\bbs-3.21-bioc\R\bin\R.exe CMD build --keep-empty-dirs --no-resave-data PRONE StartedAt: 2025-02-19 20:54:39 -0500 (Wed, 19 Feb 2025) EndedAt: 2025-02-19 20:57:31 -0500 (Wed, 19 Feb 2025) EllapsedTime: 172.4 seconds RetCode: 0 Status: OK PackageFile: PRONE_1.1.2.tar.gz PackageFileSize: 6.225 MiB