Package: PRONE Version: 1.1.2 Command: /home/biocbuild/bbs-3.21-bioc/R/bin/R CMD INSTALL PRONE StartedAt: 2025-02-19 15:56:26 -0500 (Wed, 19 Feb 2025) EndedAt: 2025-02-19 15:57:04 -0500 (Wed, 19 Feb 2025) EllapsedTime: 38.0 seconds RetCode: 0 Status: OK