Package: PRONE Version: 1.1.2 Command: /Library/Frameworks/R.framework/Resources/bin/R CMD build --keep-empty-dirs --no-resave-data PRONE StartedAt: 2025-02-19 17:18:25 -0500 (Wed, 19 Feb 2025) EndedAt: 2025-02-19 17:19:09 -0500 (Wed, 19 Feb 2025) EllapsedTime: 43.5 seconds RetCode: 0 Status: OK PackageFile: PRONE_1.1.2.tar.gz PackageFileSize: 10.04 MiB