Package: PRONE Version: 1.1.2 Maintainer: Lis Arend MaintainerEmail: lis.arend at tum.de git_url: https://git.bioconductor.org/packages/PRONE git_branch: devel git_last_commit: bca70b6 git_last_commit_date: 2025-01-23 12:01:15 -0500 (Thu, 23 Jan 2025)