Package: PROMISE Version: 1.59.0 Command: E:\biocbuild\bbs-3.21-bioc\R\bin\R.exe CMD check --no-multiarch --install=check:PROMISE.install-out.txt --library=E:\biocbuild\bbs-3.21-bioc\R\library --no-vignettes --timings PROMISE_1.59.0.tar.gz StartedAt: 2025-02-20 04:17:54 -0500 (Thu, 20 Feb 2025) EndedAt: 2025-02-20 04:20:06 -0500 (Thu, 20 Feb 2025) EllapsedTime: 132.7 seconds RetCode: 0 Status: OK CheckDir: PROMISE.Rcheck Warnings: 0