Package: PROMISE Version: 1.59.0 Command: rm -rf PROMISE.buildbin-libdir && mkdir PROMISE.buildbin-libdir && E:\biocbuild\bbs-3.21-bioc\R\bin\R.exe CMD INSTALL --build --library=PROMISE.buildbin-libdir PROMISE_1.59.0.tar.gz StartedAt: 2025-02-20 08:28:28 -0500 (Thu, 20 Feb 2025) EndedAt: 2025-02-20 08:28:51 -0500 (Thu, 20 Feb 2025) EllapsedTime: 23.0 seconds RetCode: 0 Status: OK PackageFile: PROMISE_1.59.0.zip PackageFileSize: 182.2 KiB