Package: PREDA Version: 1.53.0 Command: E:\biocbuild\bbs-3.21-bioc\R\bin\R.exe CMD check --no-multiarch --install=check:PREDA.install-out.txt --library=E:\biocbuild\bbs-3.21-bioc\R\library --no-vignettes --timings PREDA_1.53.0.tar.gz StartedAt: 2025-02-21 04:31:29 -0500 (Fri, 21 Feb 2025) EndedAt: 2025-02-21 04:33:42 -0500 (Fri, 21 Feb 2025) EllapsedTime: 133.3 seconds RetCode: 0 Status: WARNINGS CheckDir: PREDA.Rcheck Warnings: 1