Package: PREDA Version: 1.53.0 Command: chmod a+r PREDA -R && E:\biocbuild\bbs-3.21-bioc\R\bin\R.exe CMD build --keep-empty-dirs --no-resave-data PREDA StartedAt: 2025-02-20 20:55:40 -0500 (Thu, 20 Feb 2025) EndedAt: 2025-02-20 20:59:03 -0500 (Thu, 20 Feb 2025) EllapsedTime: 202.2 seconds RetCode: 0 Status: OK PackageFile: PREDA_1.53.0.tar.gz PackageFileSize: 1.761 MiB