Package: PREDA Version: 1.53.0 Command: /home/biocbuild/bbs-3.21-bioc/R/bin/R CMD check --install=check:PREDA.install-out.txt --library=/home/biocbuild/bbs-3.21-bioc/R/site-library --timings PREDA_1.53.0.tar.gz StartedAt: 2025-02-21 00:45:38 -0500 (Fri, 21 Feb 2025) EndedAt: 2025-02-21 00:49:05 -0500 (Fri, 21 Feb 2025) EllapsedTime: 206.2 seconds RetCode: 0 Status: WARNINGS CheckDir: PREDA.Rcheck Warnings: 1