Package: PREDA Version: 1.53.0 Command: /home/biocbuild/bbs-3.21-bioc/R/bin/R CMD build --keep-empty-dirs --no-resave-data PREDA StartedAt: 2025-02-20 18:45:25 -0500 (Thu, 20 Feb 2025) EndedAt: 2025-02-20 18:47:13 -0500 (Thu, 20 Feb 2025) EllapsedTime: 108.2 seconds RetCode: 0 Status: OK PackageFile: PREDA_1.53.0.tar.gz PackageFileSize: 2.004 MiB