Package: PREDA Version: 1.53.0 Command: /home/biocbuild/R/R/bin/R CMD INSTALL PREDA StartedAt: 2025-01-29 20:21:45 -0000 (Wed, 29 Jan 2025) EndedAt: 2025-01-29 20:22:13 -0000 (Wed, 29 Jan 2025) EllapsedTime: 27.8 seconds RetCode: 0 Status: OK