Package: PREDA Version: 1.53.0 Command: /home/biocbuild/R/R/bin/R CMD check --install=check:PREDA.install-out.txt --library=/home/biocbuild/R/R/site-library --no-vignettes --timings PREDA_1.53.0.tar.gz StartedAt: 2025-01-28 14:02:15 -0000 (Tue, 28 Jan 2025) EndedAt: 2025-01-28 14:04:36 -0000 (Tue, 28 Jan 2025) EllapsedTime: 141.1 seconds RetCode: 0 Status: WARNINGS CheckDir: PREDA.Rcheck Warnings: 1