Package: PREDA Version: 1.53.0 Command: /home/biocbuild/R/R/bin/R CMD build --keep-empty-dirs --no-resave-data PREDA StartedAt: 2025-01-29 01:21:26 -0000 (Wed, 29 Jan 2025) EndedAt: 2025-01-29 01:24:14 -0000 (Wed, 29 Jan 2025) EllapsedTime: 168.1 seconds RetCode: 0 Status: OK PackageFile: PREDA_1.53.0.tar.gz PackageFileSize: 1.991 MiB