Package: PREDA Version: 1.53.0 Command: /Library/Frameworks/R.framework/Resources/bin/R CMD build --keep-empty-dirs --no-resave-data PREDA StartedAt: 2025-02-20 17:16:38 -0500 (Thu, 20 Feb 2025) EndedAt: 2025-02-20 17:17:28 -0500 (Thu, 20 Feb 2025) EllapsedTime: 50.6 seconds RetCode: 0 Status: OK PackageFile: PREDA_1.53.0.tar.gz PackageFileSize: 2.005 MiB