Package: PREDA Version: 1.53.0 Command: rm -rf PREDA.buildbin-libdir && mkdir PREDA.buildbin-libdir && /Users/biocbuild/BBS/utils/build-universal.sh PREDA_1.53.0.tar.gz /Library/Frameworks/R.framework/Resources/bin/R PREDA.buildbin-libdir StartedAt: 2025-02-20 22:30:09 -0500 (Thu, 20 Feb 2025) EndedAt: 2025-02-20 22:30:18 -0500 (Thu, 20 Feb 2025) EllapsedTime: 9.2 seconds RetCode: 0 Status: OK PackageFile: PREDA_1.53.0.tgz PackageFileSize: 2.001 MiB