Package: PPInfer Version: 1.33.0 Command: E:\biocbuild\bbs-3.21-bioc\R\bin\R.exe CMD INSTALL PPInfer StartedAt: 2025-02-19 16:38:02 -0500 (Wed, 19 Feb 2025) EndedAt: 2025-02-19 16:38:29 -0500 (Wed, 19 Feb 2025) EllapsedTime: 27.3 seconds RetCode: 0 Status: OK