Package: PPInfer Version: 1.33.0 Command: E:\biocbuild\bbs-3.21-bioc\R\bin\R.exe CMD check --no-multiarch --install=check:PPInfer.install-out.txt --library=E:\biocbuild\bbs-3.21-bioc\R\library --no-vignettes --timings PPInfer_1.33.0.tar.gz StartedAt: 2025-02-21 04:30:08 -0500 (Fri, 21 Feb 2025) EndedAt: 2025-02-21 04:35:31 -0500 (Fri, 21 Feb 2025) EllapsedTime: 323.2 seconds RetCode: 0 Status: OK CheckDir: PPInfer.Rcheck Warnings: 0