Package: PPInfer Version: 1.33.0 Command: chmod a+r PPInfer -R && E:\biocbuild\bbs-3.21-bioc\R\bin\R.exe CMD build --keep-empty-dirs --no-resave-data PPInfer StartedAt: 2025-02-20 20:55:21 -0500 (Thu, 20 Feb 2025) EndedAt: 2025-02-20 20:56:31 -0500 (Thu, 20 Feb 2025) EllapsedTime: 69.6 seconds RetCode: 0 Status: OK PackageFile: PPInfer_1.33.0.tar.gz PackageFileSize: 208.6 KiB