Package: PPInfer Version: 1.33.0 Command: rm -rf PPInfer.buildbin-libdir && mkdir PPInfer.buildbin-libdir && E:\biocbuild\bbs-3.21-bioc\R\bin\R.exe CMD INSTALL --build --library=PPInfer.buildbin-libdir PPInfer_1.33.0.tar.gz StartedAt: 2025-02-21 08:47:28 -0500 (Fri, 21 Feb 2025) EndedAt: 2025-02-21 08:47:54 -0500 (Fri, 21 Feb 2025) EllapsedTime: 25.8 seconds RetCode: 0 Status: OK PackageFile: PPInfer_1.33.0.zip PackageFileSize: 270.6 KiB