Package: PPInfer Version: 1.33.0 Command: /Library/Frameworks/R.framework/Resources/bin/R CMD build --keep-empty-dirs --no-resave-data PPInfer StartedAt: 2025-02-20 17:16:17 -0500 (Thu, 20 Feb 2025) EndedAt: 2025-02-20 17:16:56 -0500 (Thu, 20 Feb 2025) EllapsedTime: 38.4 seconds RetCode: 0 Status: OK PackageFile: PPInfer_1.33.0.tar.gz PackageFileSize: 326 KiB