Package: POWSC Version: 1.15.0 Command: /home/biocbuild/bbs-3.21-bioc/R/bin/R CMD check --install=check:POWSC.install-out.txt --library=/home/biocbuild/bbs-3.21-bioc/R/site-library --timings POWSC_1.15.0.tar.gz StartedAt: 2025-02-21 00:44:48 -0500 (Fri, 21 Feb 2025) EndedAt: 2025-02-21 00:49:57 -0500 (Fri, 21 Feb 2025) EllapsedTime: 308.4 seconds RetCode: 0 Status: OK CheckDir: POWSC.Rcheck Warnings: 0