Package: PLPE Version: 1.67.0 Command: /Library/Frameworks/R.framework/Resources/bin/R CMD INSTALL PLPE StartedAt: 2025-02-19 15:01:38 -0500 (Wed, 19 Feb 2025) EndedAt: 2025-02-19 15:01:44 -0500 (Wed, 19 Feb 2025) EllapsedTime: 5.8 seconds RetCode: 0 Status: OK