Package: PLPE Version: 1.67.0 Command: /Library/Frameworks/R.framework/Resources/bin/R CMD check --install=check:PLPE.install-out.txt --library=/Library/Frameworks/R.framework/Resources/library --no-vignettes --timings PLPE_1.67.0.tar.gz StartedAt: 2025-02-19 20:47:46 -0500 (Wed, 19 Feb 2025) EndedAt: 2025-02-19 20:48:01 -0500 (Wed, 19 Feb 2025) EllapsedTime: 14.2 seconds RetCode: 0 Status: OK CheckDir: PLPE.Rcheck Warnings: 0