Package: PIUMA Version: 1.3.0 Command: E:\biocbuild\bbs-3.21-bioc\R\bin\R.exe CMD check --no-multiarch --install=check:PIUMA.install-out.txt --library=E:\biocbuild\bbs-3.21-bioc\R\library --no-vignettes --timings PIUMA_1.3.0.tar.gz StartedAt: 2025-02-20 04:08:25 -0500 (Thu, 20 Feb 2025) EndedAt: 2025-02-20 04:12:37 -0500 (Thu, 20 Feb 2025) EllapsedTime: 252.3 seconds RetCode: 0 Status: WARNINGS CheckDir: PIUMA.Rcheck Warnings: 1