Package: PIUMA Version: 1.3.0 Command: /Library/Frameworks/R.framework/Resources/bin/R CMD INSTALL PIUMA StartedAt: 2025-02-18 15:25:12 -0500 (Tue, 18 Feb 2025) EndedAt: 2025-02-18 15:25:49 -0500 (Tue, 18 Feb 2025) EllapsedTime: 37.4 seconds RetCode: 0 Status: OK