Package: PIPETS Version: 1.3.0 Command: E:\biocbuild\bbs-3.21-bioc\R\bin\R.exe CMD check --no-multiarch --install=check:PIPETS.install-out.txt --library=E:\biocbuild\bbs-3.21-bioc\R\library --no-vignettes --timings PIPETS_1.3.0.tar.gz StartedAt: 2025-02-20 04:07:57 -0500 (Thu, 20 Feb 2025) EndedAt: 2025-02-20 04:09:31 -0500 (Thu, 20 Feb 2025) EllapsedTime: 93.9 seconds RetCode: 0 Status: OK CheckDir: PIPETS.Rcheck Warnings: 0