Package: PIPETS Version: 1.3.0 Command: /Library/Frameworks/R.framework/Resources/bin/R CMD INSTALL PIPETS StartedAt: 2025-02-19 15:05:07 -0500 (Wed, 19 Feb 2025) EndedAt: 2025-02-19 15:05:12 -0500 (Wed, 19 Feb 2025) EllapsedTime: 5.1 seconds RetCode: 0 Status: OK