Package: PICB Version: 0.99.15 Command: E:\biocbuild\bbs-3.21-bioc\R\bin\R.exe CMD check --no-multiarch --install=check:PICB.install-out.txt --library=E:\biocbuild\bbs-3.21-bioc\R\library --no-vignettes --timings PICB_0.99.15.tar.gz StartedAt: 2025-02-18 03:53:27 -0500 (Tue, 18 Feb 2025) EndedAt: 2025-02-18 04:05:30 -0500 (Tue, 18 Feb 2025) EllapsedTime: 723.0 seconds RetCode: 0 Status: OK CheckDir: PICB.Rcheck Warnings: 0