Package: PICB Version: 0.99.15 Command: rm -rf PICB.buildbin-libdir && mkdir PICB.buildbin-libdir && E:\biocbuild\bbs-3.21-bioc\R\bin\R.exe CMD INSTALL --build --library=PICB.buildbin-libdir PICB_0.99.15.tar.gz StartedAt: 2025-02-18 07:58:57 -0500 (Tue, 18 Feb 2025) EndedAt: 2025-02-18 07:59:15 -0500 (Tue, 18 Feb 2025) EllapsedTime: 18.3 seconds RetCode: 0 Status: OK PackageFile: PICB_0.99.15.zip PackageFileSize: 4.623 MiB