Package: PICB Version: 0.99.15 Command: rm -rf PICB.buildbin-libdir && mkdir PICB.buildbin-libdir && /Users/biocbuild/BBS/utils/build-universal.sh PICB_0.99.15.tar.gz /Library/Frameworks/R.framework/Resources/bin/R PICB.buildbin-libdir StartedAt: 2025-02-20 00:46:40 -0500 (Thu, 20 Feb 2025) EndedAt: 2025-02-20 00:46:46 -0500 (Thu, 20 Feb 2025) EllapsedTime: 5.7 seconds RetCode: 0 Status: OK PackageFile: PICB_0.99.15.tgz PackageFileSize: 4.689 MiB