Package: PICB Version: 0.99.15 Command: /Library/Frameworks/R.framework/Resources/bin/R CMD INSTALL PICB StartedAt: 2025-02-17 15:27:01 -0500 (Mon, 17 Feb 2025) EndedAt: 2025-02-17 15:27:02 -0500 (Mon, 17 Feb 2025) EllapsedTime: 1.1 seconds RetCode: 0 Status: OK