Package: PECA Version: 1.43.0 Command: E:\biocbuild\bbs-3.21-bioc\R\bin\R.exe CMD check --no-multiarch --install=check:PECA.install-out.txt --library=E:\biocbuild\bbs-3.21-bioc\R\library --no-vignettes --timings PECA_1.43.0.tar.gz StartedAt: 2025-02-21 04:17:20 -0500 (Fri, 21 Feb 2025) EndedAt: 2025-02-21 04:20:24 -0500 (Fri, 21 Feb 2025) EllapsedTime: 183.8 seconds RetCode: 0 Status: OK CheckDir: PECA.Rcheck Warnings: 0