Package: PECA Version: 1.43.0 Command: /home/biocbuild/bbs-3.21-bioc/R/bin/R CMD INSTALL PECA StartedAt: 2025-02-21 16:08:46 -0500 (Fri, 21 Feb 2025) EndedAt: 2025-02-21 16:09:06 -0500 (Fri, 21 Feb 2025) EllapsedTime: 20.3 seconds RetCode: 0 Status: OK