Package: PECA Version: 1.43.0 Command: /home/biocbuild/bbs-3.21-bioc/R/bin/R CMD build --keep-empty-dirs --no-resave-data PECA StartedAt: 2025-02-20 18:39:49 -0500 (Thu, 20 Feb 2025) EndedAt: 2025-02-20 18:40:29 -0500 (Thu, 20 Feb 2025) EllapsedTime: 40.0 seconds RetCode: 0 Status: OK PackageFile: PECA_1.43.0.tar.gz PackageFileSize: 214.5 KiB