Package: PECA Version: 1.43.0 Command: /Library/Frameworks/R.framework/Resources/bin/R CMD check --install=check:PECA.install-out.txt --library=/Library/Frameworks/R.framework/Resources/library --no-vignettes --timings PECA_1.43.0.tar.gz StartedAt: 2025-02-20 22:18:02 -0500 (Thu, 20 Feb 2025) EndedAt: 2025-02-20 22:20:46 -0500 (Thu, 20 Feb 2025) EllapsedTime: 164.4 seconds RetCode: 0 Status: OK CheckDir: PECA.Rcheck Warnings: 0