Package: PECA Version: 1.43.0 Command: /Library/Frameworks/R.framework/Resources/bin/R CMD build --keep-empty-dirs --no-resave-data PECA StartedAt: 2025-02-20 17:45:47 -0500 (Thu, 20 Feb 2025) EndedAt: 2025-02-20 17:46:35 -0500 (Thu, 20 Feb 2025) EllapsedTime: 48.0 seconds RetCode: 0 Status: OK PackageFile: PECA_1.43.0.tar.gz PackageFileSize: 214.2 KiB