Package: PECA Version: 1.43.0 Command: /Library/Frameworks/R.framework/Resources/bin/R CMD INSTALL PECA StartedAt: 2025-02-20 15:20:02 -0500 (Thu, 20 Feb 2025) EndedAt: 2025-02-20 15:20:10 -0500 (Thu, 20 Feb 2025) EllapsedTime: 8.8 seconds RetCode: 0 Status: OK