Package: PDATK Version: 1.15.0 Command: E:\biocbuild\bbs-3.21-bioc\R\bin\R.exe CMD INSTALL PDATK StartedAt: 2025-02-19 17:02:07 -0500 (Wed, 19 Feb 2025) EndedAt: 2025-02-19 17:03:22 -0500 (Wed, 19 Feb 2025) EllapsedTime: 75.3 seconds RetCode: 0 Status: OK