Package: PDATK Version: 1.15.0 Command: E:\biocbuild\bbs-3.21-bioc\R\bin\R.exe CMD check --no-multiarch --install=check:PDATK.install-out.txt --library=E:\biocbuild\bbs-3.21-bioc\R\library --no-vignettes --timings PDATK_1.15.0.tar.gz StartedAt: 2025-02-20 03:59:17 -0500 (Thu, 20 Feb 2025) EndedAt: 2025-02-20 04:05:57 -0500 (Thu, 20 Feb 2025) EllapsedTime: 399.5 seconds RetCode: 0 Status: WARNINGS CheckDir: PDATK.Rcheck Warnings: 2