Package: PDATK Version: 1.15.0 Command: /home/biocbuild/bbs-3.21-bioc/R/bin/R CMD INSTALL PDATK StartedAt: 2025-02-19 15:42:59 -0500 (Wed, 19 Feb 2025) EndedAt: 2025-02-19 15:43:41 -0500 (Wed, 19 Feb 2025) EllapsedTime: 42.4 seconds RetCode: 0 Status: OK