Package: PDATK Version: 1.15.0 Command: /home/biocbuild/bbs-3.21-bioc/R/bin/R CMD check --install=check:PDATK.install-out.txt --library=/home/biocbuild/bbs-3.21-bioc/R/site-library --timings PDATK_1.15.0.tar.gz StartedAt: 2025-02-20 01:05:18 -0500 (Thu, 20 Feb 2025) EndedAt: 2025-02-20 01:11:46 -0500 (Thu, 20 Feb 2025) EllapsedTime: 388.6 seconds RetCode: 0 Status: WARNINGS CheckDir: PDATK.Rcheck Warnings: 2